BEGIN:VCALENDAR
VERSION:2.0
PRODID:-//ANP - ECPv6.2.9//NONSGML v1.0//EN
CALSCALE:GREGORIAN
METHOD:PUBLISH
X-ORIGINAL-URL:https://anp.it
X-WR-CALDESC:Eventi per ANP
REFRESH-INTERVAL;VALUE=DURATION:PT1H
X-Robots-Tag:noindex
X-PUBLISHED-TTL:PT1H
BEGIN:VTIMEZONE
TZID:Europe/Rome
BEGIN:DAYLIGHT
TZOFFSETFROM:+0100
TZOFFSETTO:+0200
TZNAME:CEST
DTSTART:20220327T010000
END:DAYLIGHT
BEGIN:STANDARD
TZOFFSETFROM:+0200
TZOFFSETTO:+0100
TZNAME:CET
DTSTART:20221030T010000
END:STANDARD
END:VTIMEZONE
BEGIN:VEVENT
DTSTART;TZID=Europe/Rome:20220309T170000
DTEND;TZID=Europe/Rome:20220309T180000
DTSTAMP:20260419T151402
CREATED:20220201T123151Z
LAST-MODIFIED:20220201T123242Z
UID:24919-1646845200-1646848800@anp.it
SUMMARY:Webinar: La tecnologia che ci aiuta contro la dispersione scolastica
DESCRIPTION:RICOMINCIAMO!\nANP E MICROSOFT ancora insieme per la didattica.\n9 MARZO ORE 17.00        La tecnologia che ci aiuta contro la dispersione scolastica \nVerrà rilasciato attestato. Registrazione gratuita QUI
URL:https://anp.it/evento/webinar-la-tecnologia-che-ci-aiuta-contro-la-dispersione-scolastica/
LOCATION:ONLINE
CATEGORIES:ANP,Formazione
ATTACH;FMTTYPE=image/png:https://anp.it/wp-content/uploads/2022/02/anp-microsoft-febbario-marzo-2022.png
END:VEVENT
END:VCALENDAR