BEGIN:VCALENDAR
VERSION:2.0
PRODID:-//ANP - ECPv6.2.9//NONSGML v1.0//EN
CALSCALE:GREGORIAN
METHOD:PUBLISH
X-WR-CALNAME:ANP
X-ORIGINAL-URL:https://anp.it
X-WR-CALDESC:Eventi per ANP
REFRESH-INTERVAL;VALUE=DURATION:PT1H
X-Robots-Tag:noindex
X-PUBLISHED-TTL:PT1H
BEGIN:VTIMEZONE
TZID:Europe/Rome
BEGIN:DAYLIGHT
TZOFFSETFROM:+0100
TZOFFSETTO:+0200
TZNAME:CEST
DTSTART:20220327T010000
END:DAYLIGHT
BEGIN:STANDARD
TZOFFSETFROM:+0200
TZOFFSETTO:+0100
TZNAME:CET
DTSTART:20221030T010000
END:STANDARD
END:VTIMEZONE
BEGIN:VEVENT
DTSTART;TZID=Europe/Rome:20220314T153000
DTEND;TZID=Europe/Rome:20220314T163000
DTSTAMP:20260419T151055
CREATED:20220307T164258Z
LAST-MODIFIED:20220307T164258Z
UID:25411-1647271800-1647275400@anp.it
SUMMARY:Webinar "Scardinare i muri disciplinari: una sfida comune"
DESCRIPTION:La formazione di primavera per i soci ANP: gli argomenti e le date\nCiclo “Due facce della stessa medaglia”  14 marzo 2022 ore 15.30  \nScardinare i muri disciplinari: una sfida comune \nFormatori: Licia Cianfriglia e Concetta Centamore \nRegistrazione gratuita QUI
URL:https://anp.it/evento/webinar-scardinare-i-muri-disciplinari-una-sfida-comune/
LOCATION:ONLINE
CATEGORIES:ANP,Formazione
ATTACH;FMTTYPE=image/png:https://anp.it/wp-content/uploads/2022/03/Formazione-primavera-2022.png
END:VEVENT
END:VCALENDAR